BEGIN:VCALENDAR
VERSION:2.0
PRODID:-//Fishing North Alabama - ECPv6.15.20//NONSGML v1.0//EN
CALSCALE:GREGORIAN
METHOD:PUBLISH
X-ORIGINAL-URL:https://fishingnorthalabama.com
X-WR-CALDESC:Events for Fishing North Alabama
REFRESH-INTERVAL;VALUE=DURATION:PT1H
X-Robots-Tag:noindex
X-PUBLISHED-TTL:PT1H
BEGIN:VTIMEZONE
TZID:America/Chicago
BEGIN:DAYLIGHT
TZOFFSETFROM:-0600
TZOFFSETTO:-0500
TZNAME:CDT
DTSTART:20250309T080000
END:DAYLIGHT
BEGIN:STANDARD
TZOFFSETFROM:-0500
TZOFFSETTO:-0600
TZNAME:CST
DTSTART:20251102T070000
END:STANDARD
BEGIN:DAYLIGHT
TZOFFSETFROM:-0600
TZOFFSETTO:-0500
TZNAME:CDT
DTSTART:20260308T080000
END:DAYLIGHT
BEGIN:STANDARD
TZOFFSETFROM:-0500
TZOFFSETTO:-0600
TZNAME:CST
DTSTART:20261101T070000
END:STANDARD
BEGIN:DAYLIGHT
TZOFFSETFROM:-0600
TZOFFSETTO:-0500
TZNAME:CDT
DTSTART:20270314T080000
END:DAYLIGHT
BEGIN:STANDARD
TZOFFSETFROM:-0500
TZOFFSETTO:-0600
TZNAME:CST
DTSTART:20271107T070000
END:STANDARD
END:VTIMEZONE
BEGIN:VEVENT
DTSTART;VALUE=DATE:20260328
DTEND;VALUE=DATE:20260329
DTSTAMP:20260419T144754
CREATED:20250824T035654Z
LAST-MODIFIED:20250824T035654Z
UID:7466-1774656000-1774742399@fishingnorthalabama.com
SUMMARY:Alabama Bass Trail - North Division - Pickwick Lake
DESCRIPTION:March 28\, 2026 \nAlabama Bass Trail \nNorth Division \nPickwick Lake \nMcFarland Park
URL:https://fishingnorthalabama.com/event/alabama-bass-trail-north-division-pickwick-lake-3/
LOCATION:McFarland Park\, 200 James M. Spain Drive\, Florence\, AL\, 35630\, United States
CATEGORIES:Alabama Bass Trail,Pickwick Lake
ATTACH;FMTTYPE=image/png:https://fishingnorthalabama.com/wp-content/uploads/2024/08/ABT_Logo_w_present.png
END:VEVENT
END:VCALENDAR