BEGIN:VCALENDAR
VERSION:2.0
PRODID:-//Fishing North Alabama - ECPv6.15.20//NONSGML v1.0//EN
CALSCALE:GREGORIAN
METHOD:PUBLISH
X-ORIGINAL-URL:https://fishingnorthalabama.com
X-WR-CALDESC:Events for Fishing North Alabama
REFRESH-INTERVAL;VALUE=DURATION:PT1H
X-Robots-Tag:noindex
X-PUBLISHED-TTL:PT1H
BEGIN:VTIMEZONE
TZID:America/Chicago
BEGIN:DAYLIGHT
TZOFFSETFROM:-0600
TZOFFSETTO:-0500
TZNAME:CDT
DTSTART:20220313T080000
END:DAYLIGHT
BEGIN:STANDARD
TZOFFSETFROM:-0500
TZOFFSETTO:-0600
TZNAME:CST
DTSTART:20221106T070000
END:STANDARD
BEGIN:DAYLIGHT
TZOFFSETFROM:-0600
TZOFFSETTO:-0500
TZNAME:CDT
DTSTART:20230312T080000
END:DAYLIGHT
BEGIN:STANDARD
TZOFFSETFROM:-0500
TZOFFSETTO:-0600
TZNAME:CST
DTSTART:20231105T070000
END:STANDARD
BEGIN:DAYLIGHT
TZOFFSETFROM:-0600
TZOFFSETTO:-0500
TZNAME:CDT
DTSTART:20240310T080000
END:DAYLIGHT
BEGIN:STANDARD
TZOFFSETFROM:-0500
TZOFFSETTO:-0600
TZNAME:CST
DTSTART:20241103T070000
END:STANDARD
END:VTIMEZONE
BEGIN:VEVENT
DTSTART;VALUE=DATE:20230318
DTEND;VALUE=DATE:20230319
DTSTAMP:20260423T021429
CREATED:20221229T042333Z
LAST-MODIFIED:20221229T042333Z
UID:4586-1679097600-1679183999@fishingnorthalabama.com
SUMMARY:2023 - Alabama Bass Trail - North Division - Lake Guntersville
DESCRIPTION:Alabama Bass Trail \nNorth Division \nLake Guntersville \nRamp: Lake Guntersville State Park
URL:https://fishingnorthalabama.com/event/2023-alabama-bass-trail-north-division-lake-guntersville/
LOCATION:Lake Guntersville State Park\, 1155 Lodge Drive\, Guntersville\, AL\, 35976\, United States
CATEGORIES:Alabama Bass Trail,Lake Guntersville
ATTACH;FMTTYPE=image/png:https://fishingnorthalabama.com/wp-content/uploads/2015/12/Alabama-Bass-Trail-logo.png
END:VEVENT
BEGIN:VEVENT
DTSTART;VALUE=DATE:20230325
DTEND;VALUE=DATE:20230326
DTSTAMP:20260423T021429
CREATED:20221229T063718Z
LAST-MODIFIED:20221229T063718Z
UID:4634-1679702400-1679788799@fishingnorthalabama.com
SUMMARY:2023 - MLF Phoenix Bass Fishing League - Choo Choo Division - Lake Guntersville
DESCRIPTION:Major League Fishing \nPhoenix Bass Fishing League \nChoo Choo Division \nLake Guntersville \nRamp: Goose Pond Colony
URL:https://fishingnorthalabama.com/event/2023-mlf-phoenix-bass-fishing-league-choo-choo-division-lake-guntersville-2/
LOCATION:Goose Pond Colony\, 417 Ed Hembree Drive\, Scottsboro\, AL\, 35769\, United States
CATEGORIES:Lake Guntersville,Phoenix Bass Fishing League
ATTACH;FMTTYPE=image/png:https://fishingnorthalabama.com/wp-content/uploads/2022/12/Phoenix_Bass_Fishing_League_Logo_2023.png
END:VEVENT
BEGIN:VEVENT
DTSTART;VALUE=DATE:20230325
DTEND;VALUE=DATE:20230326
DTSTAMP:20260423T021429
CREATED:20230102T233624Z
LAST-MODIFIED:20230102T233624Z
UID:4744-1679702400-1679788799@fishingnorthalabama.com
SUMMARY:2023 - Fishers of Men - Classic Series - Alabama Northeast Team - Lake Guntersville
DESCRIPTION:Fishers of Men \nClassic Series \nAlabama Northeast Team \nLake Guntersville \nRamp: Lake Guntersville State Park
URL:https://fishingnorthalabama.com/event/2023-fishers-of-men-classic-series-alabama-northeast-team-lake-guntersville/
LOCATION:Goose Pond Colony\, 417 Ed Hembree Drive\, Scottsboro\, AL\, 35769\, United States
CATEGORIES:Fishers of Men,Lake Guntersville
ATTACH;FMTTYPE=image/png:https://fishingnorthalabama.com/wp-content/uploads/2023/01/BerkleyClassicSeries.png
END:VEVENT
END:VCALENDAR