BEGIN:VCALENDAR
VERSION:2.0
PRODID:-//Fishing North Alabama - ECPv6.15.20//NONSGML v1.0//EN
CALSCALE:GREGORIAN
METHOD:PUBLISH
X-WR-CALNAME:Fishing North Alabama
X-ORIGINAL-URL:https://fishingnorthalabama.com
X-WR-CALDESC:Events for Fishing North Alabama
REFRESH-INTERVAL;VALUE=DURATION:PT1H
X-Robots-Tag:noindex
X-PUBLISHED-TTL:PT1H
BEGIN:VTIMEZONE
TZID:America/Chicago
BEGIN:DAYLIGHT
TZOFFSETFROM:-0600
TZOFFSETTO:-0500
TZNAME:CDT
DTSTART:20220313T080000
END:DAYLIGHT
BEGIN:STANDARD
TZOFFSETFROM:-0500
TZOFFSETTO:-0600
TZNAME:CST
DTSTART:20221106T070000
END:STANDARD
BEGIN:DAYLIGHT
TZOFFSETFROM:-0600
TZOFFSETTO:-0500
TZNAME:CDT
DTSTART:20230312T080000
END:DAYLIGHT
BEGIN:STANDARD
TZOFFSETFROM:-0500
TZOFFSETTO:-0600
TZNAME:CST
DTSTART:20231105T070000
END:STANDARD
BEGIN:DAYLIGHT
TZOFFSETFROM:-0600
TZOFFSETTO:-0500
TZNAME:CDT
DTSTART:20240310T080000
END:DAYLIGHT
BEGIN:STANDARD
TZOFFSETFROM:-0500
TZOFFSETTO:-0600
TZNAME:CST
DTSTART:20241103T070000
END:STANDARD
END:VTIMEZONE
BEGIN:VEVENT
DTSTART;VALUE=DATE:20230415
DTEND;VALUE=DATE:20230416
DTSTAMP:20260422T230306
CREATED:20230111T031609Z
LAST-MODIFIED:20230111T031609Z
UID:4862-1681516800-1681603199@fishingnorthalabama.com
SUMMARY:2023 - Freedom Marine Center - Annual Fishing Tournament - Lake Guntersville
DESCRIPTION:Freedom Marine Center \nAnnual Fishing Tournament \nLake Guntersville \nWeigh-In: Guntersville Civitan Park \nTournament Registration: HERE
URL:https://fishingnorthalabama.com/event/2023-freedom-marine-center-annual-fishing-tournament-lake-guntersville/
LOCATION:Guntersville Civitan Park\, 1130 Sunset Drive\, Guntersville\, AL\, 35976\, United States
CATEGORIES:Freedom Marine Center,Lake Guntersville
ATTACH;FMTTYPE=image/png:https://fishingnorthalabama.com/wp-content/uploads/2015/12/Freedom-Marine-Logo.png
END:VEVENT
BEGIN:VEVENT
DTSTART;VALUE=DATE:20230422
DTEND;VALUE=DATE:20230423
DTSTAMP:20260422T230307
CREATED:20230103T000714Z
LAST-MODIFIED:20230103T005034Z
UID:4757-1682121600-1682207999@fishingnorthalabama.com
SUMMARY:2023 - Fishers of Men - Classic Series - Alabama Northwest Team - Lake Guntersville
DESCRIPTION:Fishers of Men \nClassic Series \nAlabama Northwest Team \nLake Guntersville \nRamp: Lake Guntersville State Park
URL:https://fishingnorthalabama.com/event/2023-fishers-of-men-classic-series-alabama-northwest-team-lake-guntersville/
LOCATION:Lake Guntersville State Park\, 1155 Lodge Drive\, Guntersville\, AL\, 35976\, United States
CATEGORIES:Fishers of Men,Lake Guntersville
ATTACH;FMTTYPE=image/png:https://fishingnorthalabama.com/wp-content/uploads/2023/01/BerkleyClassicSeries.png
END:VEVENT
BEGIN:VEVENT
DTSTART;VALUE=DATE:20230428
DTEND;VALUE=DATE:20230429
DTSTAMP:20260422T230307
CREATED:20221230T030849Z
LAST-MODIFIED:20221230T031729Z
UID:4653-1682640000-1682726399@fishingnorthalabama.com
SUMMARY:2023 - MLF Abu Garcia College Fishing - Lake Guntersville
DESCRIPTION:Major League Fishing \nAbu Garcia College Fishing \nLake Guntersville \nWeigh-In: Guntersville Civitan Park
URL:https://fishingnorthalabama.com/event/2023-mlf-abu-garcia-college-fishing-lake-guntersville/
LOCATION:Guntersville Civitan Park\, 1130 Sunset Drive\, Guntersville\, AL\, 35976\, United States
CATEGORIES:Abu Garcia College Fishing,Lake Guntersville
ATTACH;FMTTYPE=image/png:https://fishingnorthalabama.com/wp-content/uploads/2022/12/cf22-logo-300x300-1.png
END:VEVENT
BEGIN:VEVENT
DTSTART;VALUE=DATE:20230429
DTEND;VALUE=DATE:20230430
DTSTAMP:20260422T230307
CREATED:20221230T031544Z
LAST-MODIFIED:20221230T031544Z
UID:4656-1682726400-1682812799@fishingnorthalabama.com
SUMMARY:2023 - MLF High School Fishing - Open - Lake Guntersville
DESCRIPTION:Major League Fishing \nHigh School Fishing \nOpen \nLake Guntersville \nWeigh-In: Guntersville Civitan Park
URL:https://fishingnorthalabama.com/event/2023-mlf-high-school-fishing-open-lake-guntersville/
LOCATION:Guntersville Civitan Park\, 1130 Sunset Drive\, Guntersville\, AL\, 35976\, United States
CATEGORIES:Lake Guntersville,MLF High School Fishing
ATTACH;FMTTYPE=image/png:https://fishingnorthalabama.com/wp-content/uploads/2022/12/Generic-HS-Fishing.png
END:VEVENT
END:VCALENDAR