BEGIN:VCALENDAR
VERSION:2.0
PRODID:-//Fishing North Alabama - ECPv6.15.20//NONSGML v1.0//EN
CALSCALE:GREGORIAN
METHOD:PUBLISH
X-WR-CALNAME:Fishing North Alabama
X-ORIGINAL-URL:https://fishingnorthalabama.com
X-WR-CALDESC:Events for Fishing North Alabama
REFRESH-INTERVAL;VALUE=DURATION:PT1H
X-Robots-Tag:noindex
X-PUBLISHED-TTL:PT1H
BEGIN:VTIMEZONE
TZID:America/Chicago
BEGIN:DAYLIGHT
TZOFFSETFROM:-0600
TZOFFSETTO:-0500
TZNAME:CDT
DTSTART:20220313T080000
END:DAYLIGHT
BEGIN:STANDARD
TZOFFSETFROM:-0500
TZOFFSETTO:-0600
TZNAME:CST
DTSTART:20221106T070000
END:STANDARD
BEGIN:DAYLIGHT
TZOFFSETFROM:-0600
TZOFFSETTO:-0500
TZNAME:CDT
DTSTART:20230312T080000
END:DAYLIGHT
BEGIN:STANDARD
TZOFFSETFROM:-0500
TZOFFSETTO:-0600
TZNAME:CST
DTSTART:20231105T070000
END:STANDARD
BEGIN:DAYLIGHT
TZOFFSETFROM:-0600
TZOFFSETTO:-0500
TZNAME:CDT
DTSTART:20240310T080000
END:DAYLIGHT
BEGIN:STANDARD
TZOFFSETFROM:-0500
TZOFFSETTO:-0600
TZNAME:CST
DTSTART:20241103T070000
END:STANDARD
BEGIN:DAYLIGHT
TZOFFSETFROM:-0600
TZOFFSETTO:-0500
TZNAME:CDT
DTSTART:20250309T080000
END:DAYLIGHT
BEGIN:STANDARD
TZOFFSETFROM:-0500
TZOFFSETTO:-0600
TZNAME:CST
DTSTART:20251102T070000
END:STANDARD
BEGIN:DAYLIGHT
TZOFFSETFROM:-0600
TZOFFSETTO:-0500
TZNAME:CDT
DTSTART:20260308T080000
END:DAYLIGHT
BEGIN:STANDARD
TZOFFSETFROM:-0500
TZOFFSETTO:-0600
TZNAME:CST
DTSTART:20261101T070000
END:STANDARD
BEGIN:DAYLIGHT
TZOFFSETFROM:-0600
TZOFFSETTO:-0500
TZNAME:CDT
DTSTART:20270314T080000
END:DAYLIGHT
BEGIN:STANDARD
TZOFFSETFROM:-0500
TZOFFSETTO:-0600
TZNAME:CST
DTSTART:20271107T070000
END:STANDARD
END:VTIMEZONE
BEGIN:VEVENT
DTSTART;VALUE=DATE:20260331
DTEND;VALUE=DATE:20260403
DTSTAMP:20260422T031751
CREATED:20250824T051442Z
LAST-MODIFIED:20250824T051442Z
UID:7490-1774915200-1775174399@fishingnorthalabama.com
SUMMARY:Major League Fishing - Toyota Series - Pickwick Lake
DESCRIPTION:March 31 – April 02\, 2026 \nMajor League Fishing \nToyota Series \nPickwick Lake \nCounce\, Tennessee \nPickwick Landing State Park
URL:https://fishingnorthalabama.com/event/major-league-fishing-toyota-series-pickwick-lake/
LOCATION:Pickwick Landing State Park\, 120 Playground Loop\, Counce\, TN\, 38326\, United States
CATEGORIES:Pickwick Lake,Toyota Series
ATTACH;FMTTYPE=image/jpeg:https://fishingnorthalabama.com/wp-content/uploads/2023/12/2024_Toyota_Series_Logo.jpg
END:VEVENT
BEGIN:VEVENT
DTSTART;VALUE=DATE:20260218
DTEND;VALUE=DATE:20260221
DTSTAMP:20260422T031751
CREATED:20250824T050958Z
LAST-MODIFIED:20250824T050958Z
UID:7487-1771372800-1771631999@fishingnorthalabama.com
SUMMARY:Major League Fishing - Toyota Series - Lake Guntersville
DESCRIPTION:February 18 – 20\, 2026 \nMajor League Fishing \nToyota Series \nLake Guntersville State Park
URL:https://fishingnorthalabama.com/event/major-league-fishing-toyota-series-lake-guntersville/
LOCATION:Lake Guntersville State Park\, 1155 Lodge Drive\, Guntersville\, AL\, 35976\, United States
CATEGORIES:Lake Guntersville,Toyota Series
ATTACH;FMTTYPE=image/jpeg:https://fishingnorthalabama.com/wp-content/uploads/2023/12/2024_Toyota_Series_Logo.jpg
END:VEVENT
BEGIN:VEVENT
DTSTART;VALUE=DATE:20250514
DTEND;VALUE=DATE:20250517
DTSTAMP:20260422T031751
CREATED:20241202T035414Z
LAST-MODIFIED:20241202T035414Z
UID:6792-1747180800-1747439999@fishingnorthalabama.com
SUMMARY:MLF Toyota Series - Central Division - Lake Guntersville
DESCRIPTION:Major League Fishing \nToyota Series \nCentral Division \nLake Guntersville \nGoose Pond Colony
URL:https://fishingnorthalabama.com/event/mlf-toyota-series-central-division-lake-guntersville/
LOCATION:Goose Pond Colony\, 417 Ed Hembree Drive\, Scottsboro\, AL\, 35769\, United States
CATEGORIES:Lake Guntersville,Toyota Series
ATTACH;FMTTYPE=image/jpeg:https://fishingnorthalabama.com/wp-content/uploads/2023/12/2024_Toyota_Series_Logo.jpg
END:VEVENT
BEGIN:VEVENT
DTSTART;VALUE=DATE:20250205
DTEND;VALUE=DATE:20250208
DTSTAMP:20260422T031751
CREATED:20241202T034947Z
LAST-MODIFIED:20241202T034947Z
UID:6790-1738713600-1738972799@fishingnorthalabama.com
SUMMARY:MLF Toyota Series - Central Division - Pickwick Lake
DESCRIPTION:Major League Fishing \nToyota Series \nCentral Division \nPickwick Lake \nMcFarland Park
URL:https://fishingnorthalabama.com/event/mlf-toyota-series-central-division-pickwick-lake/
LOCATION:McFarland Park\, 200 James M. Spain Drive\, Florence\, AL\, 35630\, United States
CATEGORIES:Pickwick Lake,Toyota Series
ATTACH;FMTTYPE=image/jpeg:https://fishingnorthalabama.com/wp-content/uploads/2023/12/2024_Toyota_Series_Logo.jpg
END:VEVENT
BEGIN:VEVENT
DTSTART;VALUE=DATE:20241107
DTEND;VALUE=DATE:20241110
DTSTAMP:20260422T031751
CREATED:20231209T180319Z
LAST-MODIFIED:20231209T180729Z
UID:5792-1730937600-1731196799@fishingnorthalabama.com
SUMMARY:Major League Fishing - Toyota Series - Championship - Wheeler lake
DESCRIPTION:Major League Fishing \nToyota Series \nChampionship \nWheeler Lake \nDitto Landing \nDetails Here
URL:https://fishingnorthalabama.com/event/major-league-fishing-toyota-series-championship-wheeler-lake/
LOCATION:Ditto Lnding\, 293 Ditto Landing Rd SE\, Huntsville\, AL\, 35803\, United States
CATEGORIES:Toyota Series,Wheeler Lake
ATTACH;FMTTYPE=image/jpeg:https://fishingnorthalabama.com/wp-content/uploads/2023/12/2024_Toyota_Series_Logo.jpg
END:VEVENT
BEGIN:VEVENT
DTSTART;VALUE=DATE:20240404
DTEND;VALUE=DATE:20240407
DTSTAMP:20260422T031751
CREATED:20231209T175817Z
LAST-MODIFIED:20231209T175817Z
UID:5790-1712188800-1712447999@fishingnorthalabama.com
SUMMARY:Major League Fishing - Toyota Series - Central Division - Smith Lake
DESCRIPTION:Major League Fishing \nToyota Series \nCentral Division \nSmith Lake \nSmith Lake Park \nDetails and Registration Here
URL:https://fishingnorthalabama.com/event/major-league-fishing-toyota-series-central-division-smith-lake/
LOCATION:Smith Lake Park\, 403 County Road 386\, Cullman\, AL\, 35057\, United States
CATEGORIES:Smith Lake,Toyota Series
ATTACH;FMTTYPE=image/jpeg:https://fishingnorthalabama.com/wp-content/uploads/2023/12/2024_Toyota_Series_Logo.jpg
END:VEVENT
BEGIN:VEVENT
DTSTART;VALUE=DATE:20240214
DTEND;VALUE=DATE:20240217
DTSTAMP:20260422T031751
CREATED:20231209T173518Z
LAST-MODIFIED:20231209T173756Z
UID:5760-1707868800-1708127999@fishingnorthalabama.com
SUMMARY:Major League Fishing - Toyota Series - Central Division - Lake Guntersville
DESCRIPTION:Major League Fishing \nToyota Series \nCentral Division \nLake Guntersville \nGoose Pond Colony \nDetails and Registration Here
URL:https://fishingnorthalabama.com/event/major-league-fishing-toyota-series-central-division-lake-guntersville/
LOCATION:Goose Pond Colony\, 417 Ed Hembree Drive\, Scottsboro\, AL\, 35769\, United States
CATEGORIES:Lake Guntersville,Toyota Series
ATTACH;FMTTYPE=image/jpeg:https://fishingnorthalabama.com/wp-content/uploads/2023/12/2024_Toyota_Series_Logo.jpg
END:VEVENT
BEGIN:VEVENT
DTSTART;VALUE=DATE:20230321
DTEND;VALUE=DATE:20230324
DTSTAMP:20260422T031751
CREATED:20221229T071317Z
LAST-MODIFIED:20221229T071317Z
UID:4646-1679356800-1679615999@fishingnorthalabama.com
SUMMARY:2023 - MLF Toyota Series - Central Division - Smith Lake
DESCRIPTION:Major League Fishing \nToyota Series \nCentral Division \nSmith Lake \nRamp: Smith Lake Park
URL:https://fishingnorthalabama.com/event/2023-mlf-toyota-series-central-division-smith-lake/
LOCATION:Smith Lake Park\, 403 County Road 386\, Cullman\, AL\, 35057\, United States
CATEGORIES:Smith Lake,Toyota Series
ATTACH;FMTTYPE=image/jpeg:https://fishingnorthalabama.com/wp-content/uploads/2022/12/Toyota_Series_Logo_2023.jpg
END:VEVENT
BEGIN:VEVENT
DTSTART;VALUE=DATE:20230216
DTEND;VALUE=DATE:20230219
DTSTAMP:20260422T031751
CREATED:20221229T070717Z
LAST-MODIFIED:20221229T070717Z
UID:4643-1676505600-1676764799@fishingnorthalabama.com
SUMMARY:2023 - MLF Toyota Series - Central Division - Lake Guntersville
DESCRIPTION:Major League Fishing \nToyota Series \nCentral Division \nLake Guntersville \nRamp: Goose Pond Colony
URL:https://fishingnorthalabama.com/event/2023-mlf-toyota-series-central-division-lake-guntersville/
LOCATION:Goose Pond Colony\, 417 Ed Hembree Drive\, Scottsboro\, AL\, 35769\, United States
CATEGORIES:Lake Guntersville,Toyota Series
ATTACH;FMTTYPE=image/jpeg:https://fishingnorthalabama.com/wp-content/uploads/2022/12/Toyota_Series_Logo_2023.jpg
END:VEVENT
END:VCALENDAR